BEGIN:VCALENDAR
VERSION:2.0
PRODID:-//Rudolf Steiner Schule Remscheid e.V. - ECPv6.15.17//NONSGML v1.0//EN
CALSCALE:GREGORIAN
METHOD:PUBLISH
X-WR-CALNAME:Rudolf Steiner Schule Remscheid e.V.
X-ORIGINAL-URL:https://www.waldorfschule-remscheid.de
X-WR-CALDESC:Veranstaltungen für Rudolf Steiner Schule Remscheid e.V.
REFRESH-INTERVAL;VALUE=DURATION:PT1H
X-Robots-Tag:noindex
X-PUBLISHED-TTL:PT1H
BEGIN:VTIMEZONE
TZID:Europe/Berlin
BEGIN:DAYLIGHT
TZOFFSETFROM:+0100
TZOFFSETTO:+0200
TZNAME:CEST
DTSTART:20200329T010000
END:DAYLIGHT
BEGIN:STANDARD
TZOFFSETFROM:+0200
TZOFFSETTO:+0100
TZNAME:CET
DTSTART:20201025T010000
END:STANDARD
BEGIN:DAYLIGHT
TZOFFSETFROM:+0100
TZOFFSETTO:+0200
TZNAME:CEST
DTSTART:20210328T010000
END:DAYLIGHT
BEGIN:STANDARD
TZOFFSETFROM:+0200
TZOFFSETTO:+0100
TZNAME:CET
DTSTART:20211031T010000
END:STANDARD
BEGIN:DAYLIGHT
TZOFFSETFROM:+0100
TZOFFSETTO:+0200
TZNAME:CEST
DTSTART:20220327T010000
END:DAYLIGHT
BEGIN:STANDARD
TZOFFSETFROM:+0200
TZOFFSETTO:+0100
TZNAME:CET
DTSTART:20221030T010000
END:STANDARD
END:VTIMEZONE
BEGIN:VEVENT
DTSTART;VALUE=DATE:20210614
DTEND;VALUE=DATE:20210619
DTSTAMP:20260421T231931
CREATED:20201123T073116Z
LAST-MODIFIED:20201123T073116Z
UID:4185-1623628800-1624060799@www.waldorfschule-remscheid.de
SUMMARY:Eurythmiewoche
DESCRIPTION:
URL:https://www.waldorfschule-remscheid.de/event/eurythmiewoche/
END:VEVENT
BEGIN:VEVENT
DTSTART;VALUE=DATE:20210616
DTEND;VALUE=DATE:20210619
DTSTAMP:20260421T231931
CREATED:20201013T064626Z
LAST-MODIFIED:20210209T111727Z
UID:4143-1623801600-1624060799@www.waldorfschule-remscheid.de
SUMMARY:ZP 10: Mündliche Prüfungen
DESCRIPTION:
URL:https://www.waldorfschule-remscheid.de/event/zp-10-muendliche-pruefungen/
END:VEVENT
BEGIN:VEVENT
DTSTART;TZID=Europe/Berlin:20210616T180000
DTEND;TZID=Europe/Berlin:20210616T200000
DTSTAMP:20260421T231931
CREATED:20210531T095853Z
LAST-MODIFIED:20210531T095853Z
UID:4496-1623866400-1623873600@www.waldorfschule-remscheid.de
SUMMARY:Kennenlern-Elternabend (Musikhaus)
DESCRIPTION:
URL:https://www.waldorfschule-remscheid.de/event/kennenlern-elternabend-musikhaus/
END:VEVENT
BEGIN:VEVENT
DTSTART;TZID=Europe/Berlin:20210616T190000
DTEND;TZID=Europe/Berlin:20210616T210000
DTSTAMP:20260421T231931
CREATED:20210209T095229Z
LAST-MODIFIED:20210209T095229Z
UID:4315-1623870000-1623877200@www.waldorfschule-remscheid.de
SUMMARY:Arbeitskollegium
DESCRIPTION:
URL:https://www.waldorfschule-remscheid.de/event/arbeitskollegium-21/
CATEGORIES:Arbeitskreise
END:VEVENT
END:VCALENDAR