BEGIN:VCALENDAR
VERSION:2.0
PRODID:-//Rudolf Steiner Schule Remscheid e.V. - ECPv6.15.17//NONSGML v1.0//EN
CALSCALE:GREGORIAN
METHOD:PUBLISH
X-WR-CALNAME:Rudolf Steiner Schule Remscheid e.V.
X-ORIGINAL-URL:https://www.waldorfschule-remscheid.de
X-WR-CALDESC:Veranstaltungen für Rudolf Steiner Schule Remscheid e.V.
REFRESH-INTERVAL;VALUE=DURATION:PT1H
X-Robots-Tag:noindex
X-PUBLISHED-TTL:PT1H
BEGIN:VTIMEZONE
TZID:Europe/Berlin
BEGIN:DAYLIGHT
TZOFFSETFROM:+0100
TZOFFSETTO:+0200
TZNAME:CEST
DTSTART:20200329T010000
END:DAYLIGHT
BEGIN:STANDARD
TZOFFSETFROM:+0200
TZOFFSETTO:+0100
TZNAME:CET
DTSTART:20201025T010000
END:STANDARD
BEGIN:DAYLIGHT
TZOFFSETFROM:+0100
TZOFFSETTO:+0200
TZNAME:CEST
DTSTART:20210328T010000
END:DAYLIGHT
BEGIN:STANDARD
TZOFFSETFROM:+0200
TZOFFSETTO:+0100
TZNAME:CET
DTSTART:20211031T010000
END:STANDARD
BEGIN:DAYLIGHT
TZOFFSETFROM:+0100
TZOFFSETTO:+0200
TZNAME:CEST
DTSTART:20220327T010000
END:DAYLIGHT
BEGIN:STANDARD
TZOFFSETFROM:+0200
TZOFFSETTO:+0100
TZNAME:CET
DTSTART:20221030T010000
END:STANDARD
END:VTIMEZONE
BEGIN:VEVENT
DTSTART;TZID=Europe/Berlin:20211208T200000
DTEND;TZID=Europe/Berlin:20211208T213000
DTSTAMP:20260421T203451
CREATED:20210725T195410Z
LAST-MODIFIED:20210725T195410Z
UID:4573-1638993600-1638999000@www.waldorfschule-remscheid.de
SUMMARY:Finanzkreis (FK)
DESCRIPTION:…trifft in der Regel jeden 2. Mittwoch im Monat \nAnsprechpartner: Dirk Lemke \nerreichbar am Besten per E-Mail: finanzkreis@waldorfschule-remscheid.de \nDer Finanzkreis ist ein zentrales Kontroll- und Steuerungsorgan unserer Schule. Er betrachtet den gesamten Schulhaushalt und behandelt Fragen des aktuellen Haushaltsjahres\, der Finanzplanung sowie der Mittelverwendendung. \nEin besonderes Augenmerk gilt dabei denjenigen Mitteln\, die zum einen als Eigenanteil zu den staatlichen Zuschüssen beigesteuert werden müssen\, zum anderen aber zur Finanzierung von pädagogischen Angeboten\, schulischen bzw. kulturellen Aktivitäten sowie der Schulgestaltung bzw. -ausstattung bereitgestellt werden müssen\, da sie zwar aus dem pädagogischen Anspruch einer Waldorfschule erwachsen\, jedoch nicht staatlich gefördert werden. \n\n\n\n\n\n\n\n\n\n\n\n 
URL:https://www.waldorfschule-remscheid.de/event/finanzkreis-fk-5/
END:VEVENT
END:VCALENDAR