BEGIN:VCALENDAR
VERSION:2.0
PRODID:-//Rudolf Steiner Schule Remscheid e.V. - ECPv6.15.17//NONSGML v1.0//EN
CALSCALE:GREGORIAN
METHOD:PUBLISH
X-ORIGINAL-URL:https://www.waldorfschule-remscheid.de
X-WR-CALDESC:Veranstaltungen für Rudolf Steiner Schule Remscheid e.V.
REFRESH-INTERVAL;VALUE=DURATION:PT1H
X-Robots-Tag:noindex
X-PUBLISHED-TTL:PT1H
BEGIN:VTIMEZONE
TZID:Europe/Berlin
BEGIN:DAYLIGHT
TZOFFSETFROM:+0100
TZOFFSETTO:+0200
TZNAME:CEST
DTSTART:20250330T010000
END:DAYLIGHT
BEGIN:STANDARD
TZOFFSETFROM:+0200
TZOFFSETTO:+0100
TZNAME:CET
DTSTART:20251026T010000
END:STANDARD
BEGIN:DAYLIGHT
TZOFFSETFROM:+0100
TZOFFSETTO:+0200
TZNAME:CEST
DTSTART:20260329T010000
END:DAYLIGHT
BEGIN:STANDARD
TZOFFSETFROM:+0200
TZOFFSETTO:+0100
TZNAME:CET
DTSTART:20261025T010000
END:STANDARD
BEGIN:DAYLIGHT
TZOFFSETFROM:+0100
TZOFFSETTO:+0200
TZNAME:CEST
DTSTART:20270328T010000
END:DAYLIGHT
BEGIN:STANDARD
TZOFFSETFROM:+0200
TZOFFSETTO:+0100
TZNAME:CET
DTSTART:20271031T010000
END:STANDARD
END:VTIMEZONE
BEGIN:VEVENT
DTSTART;TZID=Europe/Berlin:20260204T190000
DTEND;TZID=Europe/Berlin:20260204T203000
DTSTAMP:20260419T165204
CREATED:20250617T072136Z
LAST-MODIFIED:20250617T072136Z
UID:6980-1770231600-1770237000@www.waldorfschule-remscheid.de
SUMMARY:Elternabend Klasse 2
DESCRIPTION:
URL:https://www.waldorfschule-remscheid.de/event/elternabend-klasse-2-42/
CATEGORIES:Elternabend
END:VEVENT
BEGIN:VEVENT
DTSTART;TZID=Europe/Berlin:20260204T200000
DTEND;TZID=Europe/Berlin:20260204T200000
DTSTAMP:20260419T165204
CREATED:20250916T065728Z
LAST-MODIFIED:20250916T065728Z
UID:7174-1770235200-1770235200@www.waldorfschule-remscheid.de
SUMMARY:Veranstaltungskreis
DESCRIPTION:
URL:https://www.waldorfschule-remscheid.de/event/veranstaltungskreis-61/
CATEGORIES:Arbeitskreise
END:VEVENT
END:VCALENDAR