BEGIN:VCALENDAR
VERSION:2.0
PRODID:-//Rudolf Steiner Schule Remscheid e.V. - ECPv6.15.17//NONSGML v1.0//EN
CALSCALE:GREGORIAN
METHOD:PUBLISH
X-ORIGINAL-URL:https://www.waldorfschule-remscheid.de
X-WR-CALDESC:Veranstaltungen für Rudolf Steiner Schule Remscheid e.V.
REFRESH-INTERVAL;VALUE=DURATION:PT1H
X-Robots-Tag:noindex
X-PUBLISHED-TTL:PT1H
BEGIN:VTIMEZONE
TZID:Europe/Berlin
BEGIN:DAYLIGHT
TZOFFSETFROM:+0100
TZOFFSETTO:+0200
TZNAME:CEST
DTSTART:20200329T010000
END:DAYLIGHT
BEGIN:STANDARD
TZOFFSETFROM:+0200
TZOFFSETTO:+0100
TZNAME:CET
DTSTART:20201025T010000
END:STANDARD
BEGIN:DAYLIGHT
TZOFFSETFROM:+0100
TZOFFSETTO:+0200
TZNAME:CEST
DTSTART:20210328T010000
END:DAYLIGHT
BEGIN:STANDARD
TZOFFSETFROM:+0200
TZOFFSETTO:+0100
TZNAME:CET
DTSTART:20211031T010000
END:STANDARD
BEGIN:DAYLIGHT
TZOFFSETFROM:+0100
TZOFFSETTO:+0200
TZNAME:CEST
DTSTART:20220327T010000
END:DAYLIGHT
BEGIN:STANDARD
TZOFFSETFROM:+0200
TZOFFSETTO:+0100
TZNAME:CET
DTSTART:20221030T010000
END:STANDARD
END:VTIMEZONE
BEGIN:VEVENT
DTSTART;TZID=Europe/Berlin:20210206T100000
DTEND;TZID=Europe/Berlin:20210206T130000
DTSTAMP:20260419T182045
CREATED:20210201T071739Z
LAST-MODIFIED:20210201T071739Z
UID:4303-1612605600-1612616400@www.waldorfschule-remscheid.de
SUMMARY:Einführungswebinar Teil III
DESCRIPTION:
URL:https://www.waldorfschule-remscheid.de/event/einfuehrungswebinar-teil-iii/
END:VEVENT
BEGIN:VEVENT
DTSTART;TZID=Europe/Berlin:20210208T193000
DTEND;TZID=Europe/Berlin:20210208T213000
DTSTAMP:20260419T182045
CREATED:20201214T093209Z
LAST-MODIFIED:20201214T093209Z
UID:4235-1612812600-1612819800@www.waldorfschule-remscheid.de
SUMMARY:Elternabend Klasse 7
DESCRIPTION:
URL:https://www.waldorfschule-remscheid.de/event/elternabend-klasse-7-10/
END:VEVENT
BEGIN:VEVENT
DTSTART;TZID=Europe/Berlin:20210209T200000
DTEND;TZID=Europe/Berlin:20210209T220000
DTSTAMP:20260419T182045
CREATED:20201214T093257Z
LAST-MODIFIED:20201214T093257Z
UID:4237-1612900800-1612908000@www.waldorfschule-remscheid.de
SUMMARY:Webkreis
DESCRIPTION:
URL:https://www.waldorfschule-remscheid.de/event/webkreis-9/
END:VEVENT
BEGIN:VEVENT
DTSTART;TZID=Europe/Berlin:20210210T200000
DTEND;TZID=Europe/Berlin:20210210T220000
DTSTAMP:20260419T182045
CREATED:20200930T094514Z
LAST-MODIFIED:20200930T094514Z
UID:4078-1612987200-1612994400@www.waldorfschule-remscheid.de
SUMMARY:Elternabend Klasse 4
DESCRIPTION:
URL:https://www.waldorfschule-remscheid.de/event/elternabend-klasse-4-13/
END:VEVENT
BEGIN:VEVENT
DTSTART;TZID=Europe/Berlin:20210210T200000
DTEND;TZID=Europe/Berlin:20210210T220000
DTSTAMP:20260419T182045
CREATED:20210113T185025Z
LAST-MODIFIED:20210113T185025Z
UID:4287-1612987200-1612994400@www.waldorfschule-remscheid.de
SUMMARY:Finanzkreis
DESCRIPTION:
URL:https://www.waldorfschule-remscheid.de/event/finanzkreis-33/
END:VEVENT
BEGIN:VEVENT
DTSTART;VALUE=DATE:20210215
DTEND;VALUE=DATE:20210216
DTSTAMP:20260419T182045
CREATED:20200930T100313Z
LAST-MODIFIED:20200930T100313Z
UID:4106-1613347200-1613433599@www.waldorfschule-remscheid.de
SUMMARY:Rosenmontag -schulfrei-
DESCRIPTION:
URL:https://www.waldorfschule-remscheid.de/event/rosenmontag-schulfrei-2/
END:VEVENT
BEGIN:VEVENT
DTSTART;VALUE=DATE:20210215
DTEND;VALUE=DATE:20210220
DTSTAMP:20260419T182045
CREATED:20201030T112626Z
LAST-MODIFIED:20201030T112626Z
UID:4153-1613347200-1613779199@www.waldorfschule-remscheid.de
SUMMARY:Karnevalsferien
DESCRIPTION:
URL:https://www.waldorfschule-remscheid.de/event/karnevalsferien-2/
END:VEVENT
BEGIN:VEVENT
DTSTART;TZID=Europe/Berlin:20210222T190000
DTEND;TZID=Europe/Berlin:20210222T210000
DTSTAMP:20260419T182045
CREATED:20200930T094552Z
LAST-MODIFIED:20200930T094552Z
UID:4080-1614020400-1614027600@www.waldorfschule-remscheid.de
SUMMARY:Elternabend Klasse 2
DESCRIPTION:
URL:https://www.waldorfschule-remscheid.de/event/elternabend-klasse-2-16/
END:VEVENT
BEGIN:VEVENT
DTSTART;TZID=Europe/Berlin:20210224T190000
DTEND;TZID=Europe/Berlin:20210224T210000
DTSTAMP:20260419T182045
CREATED:20210209T094610Z
LAST-MODIFIED:20210209T094610Z
UID:4307-1614193200-1614200400@www.waldorfschule-remscheid.de
SUMMARY:Arbeitskollegium
DESCRIPTION:Aufgrund der Karnevalsferien ist der Termin vom 17.2.2021 auf den 24.2.2021 verlegt worden.
URL:https://www.waldorfschule-remscheid.de/event/arbeitskollegium-17/
END:VEVENT
BEGIN:VEVENT
DTSTART;TZID=Europe/Berlin:20210227T100000
DTEND;TZID=Europe/Berlin:20210227T110000
DTSTAMP:20260419T182045
CREATED:20200907T081632Z
LAST-MODIFIED:20210225T075835Z
UID:4015-1614420000-1614423600@www.waldorfschule-remscheid.de
SUMMARY:Monatsfeier - fällt corona bedingt aus - auch kein Unterricht
DESCRIPTION:Die geplante Monatsfeier darf aufgrund der CoronaSchutzverordnung nicht in der Form stattfinden. \nEs findet auch kein Unterricht statt\, weder online noch präsenz. \nDie Lehrer nutzen den Tag für Fortbildungen und Konferenzen.
URL:https://www.waldorfschule-remscheid.de/event/monatsfeier-7/
END:VEVENT
END:VCALENDAR