BEGIN:VCALENDAR
VERSION:2.0
PRODID:-//Rudolf Steiner Schule Remscheid e.V. - ECPv6.15.17//NONSGML v1.0//EN
CALSCALE:GREGORIAN
METHOD:PUBLISH
X-WR-CALNAME:Rudolf Steiner Schule Remscheid e.V.
X-ORIGINAL-URL:https://www.waldorfschule-remscheid.de
X-WR-CALDESC:Veranstaltungen für Rudolf Steiner Schule Remscheid e.V.
REFRESH-INTERVAL;VALUE=DURATION:PT1H
X-Robots-Tag:noindex
X-PUBLISHED-TTL:PT1H
BEGIN:VTIMEZONE
TZID:Europe/Berlin
BEGIN:DAYLIGHT
TZOFFSETFROM:+0100
TZOFFSETTO:+0200
TZNAME:CEST
DTSTART:20200329T010000
END:DAYLIGHT
BEGIN:STANDARD
TZOFFSETFROM:+0200
TZOFFSETTO:+0100
TZNAME:CET
DTSTART:20201025T010000
END:STANDARD
BEGIN:DAYLIGHT
TZOFFSETFROM:+0100
TZOFFSETTO:+0200
TZNAME:CEST
DTSTART:20210328T010000
END:DAYLIGHT
BEGIN:STANDARD
TZOFFSETFROM:+0200
TZOFFSETTO:+0100
TZNAME:CET
DTSTART:20211031T010000
END:STANDARD
BEGIN:DAYLIGHT
TZOFFSETFROM:+0100
TZOFFSETTO:+0200
TZNAME:CEST
DTSTART:20220327T010000
END:DAYLIGHT
BEGIN:STANDARD
TZOFFSETFROM:+0200
TZOFFSETTO:+0100
TZNAME:CET
DTSTART:20221030T010000
END:STANDARD
END:VTIMEZONE
BEGIN:VEVENT
DTSTART;VALUE=DATE:20210603
DTEND;VALUE=DATE:20210604
DTSTAMP:20260421T214722
CREATED:20200930T095607Z
LAST-MODIFIED:20200930T095607Z
UID:4100-1622678400-1622764799@www.waldorfschule-remscheid.de
SUMMARY:Fronleichnam -schulfrei-
DESCRIPTION:
URL:https://www.waldorfschule-remscheid.de/event/fronleichnam-schulfrei-2/
END:VEVENT
BEGIN:VEVENT
DTSTART;VALUE=DATE:20210604
DTEND;VALUE=DATE:20210605
DTSTAMP:20260421T214722
CREATED:20200930T095632Z
LAST-MODIFIED:20200930T095632Z
UID:4102-1622764800-1622851199@www.waldorfschule-remscheid.de
SUMMARY:Brückentag -schulfrei-
DESCRIPTION:
URL:https://www.waldorfschule-remscheid.de/event/brueckentag-schulfrei-8/
END:VEVENT
BEGIN:VEVENT
DTSTART;TZID=Europe/Berlin:20210608T190000
DTEND;TZID=Europe/Berlin:20210608T210000
DTSTAMP:20260421T214722
CREATED:20210526T112948Z
LAST-MODIFIED:20210526T112948Z
UID:4487-1623178800-1623186000@www.waldorfschule-remscheid.de
SUMMARY:Oberstufenkreis
DESCRIPTION:
URL:https://www.waldorfschule-remscheid.de/event/oberstufenkreis-2/
END:VEVENT
BEGIN:VEVENT
DTSTART;TZID=Europe/Berlin:20210609T200000
DTEND;TZID=Europe/Berlin:20210609T220000
DTSTAMP:20260421T214722
CREATED:20210113T185332Z
LAST-MODIFIED:20210113T185332Z
UID:4295-1623268800-1623276000@www.waldorfschule-remscheid.de
SUMMARY:Finanzkreis
DESCRIPTION:
URL:https://www.waldorfschule-remscheid.de/event/finanzkreis-37/
END:VEVENT
BEGIN:VEVENT
DTSTART;VALUE=DATE:20210614
DTEND;VALUE=DATE:20210619
DTSTAMP:20260421T214722
CREATED:20201123T073116Z
LAST-MODIFIED:20201123T073116Z
UID:4185-1623628800-1624060799@www.waldorfschule-remscheid.de
SUMMARY:Eurythmiewoche
DESCRIPTION:
URL:https://www.waldorfschule-remscheid.de/event/eurythmiewoche/
END:VEVENT
BEGIN:VEVENT
DTSTART;TZID=Europe/Berlin:20210614T193000
DTEND;TZID=Europe/Berlin:20210614T210000
DTSTAMP:20260421T214722
CREATED:20210525T071157Z
LAST-MODIFIED:20210525T071157Z
UID:4485-1623699000-1623704400@www.waldorfschule-remscheid.de
SUMMARY:Elternabend Klasse 7
DESCRIPTION:
URL:https://www.waldorfschule-remscheid.de/event/elternabend-klasse-7-11/
END:VEVENT
BEGIN:VEVENT
DTSTART;VALUE=DATE:20210616
DTEND;VALUE=DATE:20210619
DTSTAMP:20260421T214722
CREATED:20201013T064626Z
LAST-MODIFIED:20210209T111727Z
UID:4143-1623801600-1624060799@www.waldorfschule-remscheid.de
SUMMARY:ZP 10: Mündliche Prüfungen
DESCRIPTION:
URL:https://www.waldorfschule-remscheid.de/event/zp-10-muendliche-pruefungen/
END:VEVENT
BEGIN:VEVENT
DTSTART;TZID=Europe/Berlin:20210616T180000
DTEND;TZID=Europe/Berlin:20210616T200000
DTSTAMP:20260421T214722
CREATED:20210531T095853Z
LAST-MODIFIED:20210531T095853Z
UID:4496-1623866400-1623873600@www.waldorfschule-remscheid.de
SUMMARY:Kennenlern-Elternabend (Musikhaus)
DESCRIPTION:
URL:https://www.waldorfschule-remscheid.de/event/kennenlern-elternabend-musikhaus/
END:VEVENT
BEGIN:VEVENT
DTSTART;TZID=Europe/Berlin:20210616T190000
DTEND;TZID=Europe/Berlin:20210616T210000
DTSTAMP:20260421T214722
CREATED:20210209T095229Z
LAST-MODIFIED:20210209T095229Z
UID:4315-1623870000-1623877200@www.waldorfschule-remscheid.de
SUMMARY:Arbeitskollegium
DESCRIPTION:
URL:https://www.waldorfschule-remscheid.de/event/arbeitskollegium-21/
CATEGORIES:Arbeitskreise
END:VEVENT
BEGIN:VEVENT
DTSTART;TZID=Europe/Berlin:20210619T100000
DTEND;TZID=Europe/Berlin:20210619T140000
DTSTAMP:20260421T214722
CREATED:20210209T111906Z
LAST-MODIFIED:20210527T125046Z
UID:4322-1624096800-1624111200@www.waldorfschule-remscheid.de
SUMMARY:(Handwerkerfest) - fällt coronabedingt aus !!!!
DESCRIPTION:
URL:https://www.waldorfschule-remscheid.de/event/handwerkerfest-3/
END:VEVENT
BEGIN:VEVENT
DTSTART;VALUE=DATE:20210621
DTEND;VALUE=DATE:20210626
DTSTAMP:20260421T214722
CREATED:20210209T111656Z
LAST-MODIFIED:20210209T111656Z
UID:4318-1624233600-1624665599@www.waldorfschule-remscheid.de
SUMMARY:ZP 10: Mündliche Prüfungen
DESCRIPTION:
URL:https://www.waldorfschule-remscheid.de/event/zp-10-muendliche-pruefungen-2/
END:VEVENT
BEGIN:VEVENT
DTSTART;TZID=Europe/Berlin:20210622T193000
DTEND;TZID=Europe/Berlin:20210622T193000
DTSTAMP:20260421T214722
CREATED:20210611T072636Z
LAST-MODIFIED:20210611T072636Z
UID:4504-1624390200-1624390200@www.waldorfschule-remscheid.de
SUMMARY:Elternabend Klasse 4
DESCRIPTION:
URL:https://www.waldorfschule-remscheid.de/event/elternabend-klasse-4-16/
END:VEVENT
BEGIN:VEVENT
DTSTART;TZID=Europe/Berlin:20210624T190000
DTEND;TZID=Europe/Berlin:20210624T210000
DTSTAMP:20260421T214722
CREATED:20201218T115423Z
LAST-MODIFIED:20201218T115423Z
UID:4260-1624561200-1624568400@www.waldorfschule-remscheid.de
SUMMARY:Elternabend Klasse 1
DESCRIPTION:
URL:https://www.waldorfschule-remscheid.de/event/elternabend-klasse-1-14/
END:VEVENT
BEGIN:VEVENT
DTSTART;TZID=Europe/Berlin:20210624T200000
DTEND;TZID=Europe/Berlin:20210624T200000
DTSTAMP:20260421T214722
CREATED:20210601T065602Z
LAST-MODIFIED:20210611T072715Z
UID:4498-1624564800-1624564800@www.waldorfschule-remscheid.de
SUMMARY:Kennenlern-Elternabend OGS
DESCRIPTION:Im OGS Gebäude
URL:https://www.waldorfschule-remscheid.de/event/kennnenlern-elternabend-ogs/
END:VEVENT
BEGIN:VEVENT
DTSTART;VALUE=DATE:20210628
DTEND;VALUE=DATE:20210701
DTSTAMP:20260421T214722
CREATED:20200930T095750Z
LAST-MODIFIED:20200930T095750Z
UID:4104-1624838400-1625097599@www.waldorfschule-remscheid.de
SUMMARY:Mündliche Prüfung Abitur
DESCRIPTION:
URL:https://www.waldorfschule-remscheid.de/event/muendliche-pruefung-abitur/
END:VEVENT
BEGIN:VEVENT
DTSTART;VALUE=DATE:20210628
DTEND;VALUE=DATE:20210629
DTSTAMP:20260421T214722
CREATED:20210209T111805Z
LAST-MODIFIED:20210209T111805Z
UID:4320-1624838400-1624924799@www.waldorfschule-remscheid.de
SUMMARY:ZP 10: Mündliche Prüfungen
DESCRIPTION:
URL:https://www.waldorfschule-remscheid.de/event/zp-10-muendliche-pruefungen-3/
END:VEVENT
BEGIN:VEVENT
DTSTART;TZID=Europe/Berlin:20210629T190000
DTEND;TZID=Europe/Berlin:20210629T190000
DTSTAMP:20260421T214722
CREATED:20210623T060824Z
LAST-MODIFIED:20210625T074534Z
UID:4534-1624993200-1624993200@www.waldorfschule-remscheid.de
SUMMARY:Elternabend Klasse 6
DESCRIPTION:Orchestersaal
URL:https://www.waldorfschule-remscheid.de/event/elternabend-klasse-6-10/
END:VEVENT
END:VCALENDAR