BEGIN:VCALENDAR
VERSION:2.0
PRODID:-//Rudolf Steiner Schule Remscheid e.V. - ECPv6.15.17//NONSGML v1.0//EN
CALSCALE:GREGORIAN
METHOD:PUBLISH
X-WR-CALNAME:Rudolf Steiner Schule Remscheid e.V.
X-ORIGINAL-URL:https://www.waldorfschule-remscheid.de
X-WR-CALDESC:Veranstaltungen für Rudolf Steiner Schule Remscheid e.V.
REFRESH-INTERVAL;VALUE=DURATION:PT1H
X-Robots-Tag:noindex
X-PUBLISHED-TTL:PT1H
BEGIN:VTIMEZONE
TZID:Europe/Berlin
BEGIN:DAYLIGHT
TZOFFSETFROM:+0100
TZOFFSETTO:+0200
TZNAME:CEST
DTSTART:20200329T010000
END:DAYLIGHT
BEGIN:STANDARD
TZOFFSETFROM:+0200
TZOFFSETTO:+0100
TZNAME:CET
DTSTART:20201025T010000
END:STANDARD
BEGIN:DAYLIGHT
TZOFFSETFROM:+0100
TZOFFSETTO:+0200
TZNAME:CEST
DTSTART:20210328T010000
END:DAYLIGHT
BEGIN:STANDARD
TZOFFSETFROM:+0200
TZOFFSETTO:+0100
TZNAME:CET
DTSTART:20211031T010000
END:STANDARD
BEGIN:DAYLIGHT
TZOFFSETFROM:+0100
TZOFFSETTO:+0200
TZNAME:CEST
DTSTART:20220327T010000
END:DAYLIGHT
BEGIN:STANDARD
TZOFFSETFROM:+0200
TZOFFSETTO:+0100
TZNAME:CET
DTSTART:20221030T010000
END:STANDARD
END:VTIMEZONE
BEGIN:VEVENT
DTSTART;VALUE=DATE:20210705
DTEND;VALUE=DATE:20210818
DTSTAMP:20260421T174945
CREATED:20200930T100515Z
LAST-MODIFIED:20200930T100515Z
UID:4110-1625443200-1629244799@www.waldorfschule-remscheid.de
SUMMARY:Sommerferien
DESCRIPTION:
URL:https://www.waldorfschule-remscheid.de/event/sommerferien-4/
END:VEVENT
BEGIN:VEVENT
DTSTART;TZID=Europe/Berlin:20210817T200000
DTEND;TZID=Europe/Berlin:20210817T220000
DTSTAMP:20260421T174945
CREATED:20210616T073716Z
LAST-MODIFIED:20210621T103306Z
UID:4507-1629230400-1629237600@www.waldorfschule-remscheid.de
SUMMARY:Elternabend Klasse 1
DESCRIPTION:
URL:https://www.waldorfschule-remscheid.de/event/elternabend-klasse-1-11/
END:VEVENT
BEGIN:VEVENT
DTSTART;TZID=Europe/Berlin:20210818T200000
DTEND;TZID=Europe/Berlin:20210818T213000
DTSTAMP:20260421T174945
CREATED:20210725T062319Z
LAST-MODIFIED:20210725T062319Z
UID:4565-1629316800-1629322200@www.waldorfschule-remscheid.de
SUMMARY:Finanzkreis (FK)
DESCRIPTION:…trifft in der Regel jeden 2. Mittwoch im Monat \nAnsprechpartner: Dirk Lemke \nerreichbar am Besten per E-Mail: finanzkreis@waldorfschule-remscheid.de \nDer Finanzkreis ist ein zentrales Kontroll- und Steuerungsorgan unserer Schule. Er betrachtet den gesamten Schulhaushalt und behandelt Fragen des aktuellen Haushaltsjahres\, der Finanzplanung sowie der Mittelverwendendung. \nEin besonderes Augenmerk gilt dabei denjenigen Mitteln\, die zum einen als Eigenanteil zu den staatlichen Zuschüssen beigesteuert werden müssen\, zum anderen aber zur Finanzierung von pädagogischen Angeboten\, schulischen bzw. kulturellen Aktivitäten sowie der Schulgestaltung bzw. -ausstattung bereitgestellt werden müssen\, da sie zwar aus dem pädagogischen Anspruch einer Waldorfschule erwachsen\, jedoch nicht staatlich gefördert werden. \n\n\n\n\n\n\n\n\n\n\n\n 
URL:https://www.waldorfschule-remscheid.de/event/finanzkreis-fk/
END:VEVENT
BEGIN:VEVENT
DTSTART;VALUE=DATE:20210819
DTEND;VALUE=DATE:20210820
DTSTAMP:20260421T174945
CREATED:20210625T074022Z
LAST-MODIFIED:20210625T074022Z
UID:4537-1629331200-1629417599@www.waldorfschule-remscheid.de
SUMMARY:Elternabend Klasse 5
DESCRIPTION:
URL:https://www.waldorfschule-remscheid.de/event/elternabend-klasse-5-5/
END:VEVENT
BEGIN:VEVENT
DTSTART;VALUE=DATE:20210827
DTEND;VALUE=DATE:20210828
DTSTAMP:20260421T174945
CREATED:20210521T070552Z
LAST-MODIFIED:20210825T152818Z
UID:4481-1630022400-1630108799@www.waldorfschule-remscheid.de
SUMMARY:!!! Verschoben auf Frühjahr 2022 !!!   Willkommensparty für die Eltern der neuen 1. Klasse
DESCRIPTION:Neuer Termin folgt rechtzeitig! \n 
URL:https://www.waldorfschule-remscheid.de/event/willkommensparty-fuer-die-eltern-der-neuen-1-klasse/
END:VEVENT
END:VCALENDAR