BEGIN:VCALENDAR
VERSION:2.0
PRODID:-//Rudolf Steiner Schule Remscheid e.V. - ECPv6.15.17//NONSGML v1.0//EN
CALSCALE:GREGORIAN
METHOD:PUBLISH
X-ORIGINAL-URL:https://www.waldorfschule-remscheid.de
X-WR-CALDESC:Veranstaltungen für Rudolf Steiner Schule Remscheid e.V.
REFRESH-INTERVAL;VALUE=DURATION:PT1H
X-Robots-Tag:noindex
X-PUBLISHED-TTL:PT1H
BEGIN:VTIMEZONE
TZID:Europe/Berlin
BEGIN:DAYLIGHT
TZOFFSETFROM:+0100
TZOFFSETTO:+0200
TZNAME:CEST
DTSTART:20200329T010000
END:DAYLIGHT
BEGIN:STANDARD
TZOFFSETFROM:+0200
TZOFFSETTO:+0100
TZNAME:CET
DTSTART:20201025T010000
END:STANDARD
BEGIN:DAYLIGHT
TZOFFSETFROM:+0100
TZOFFSETTO:+0200
TZNAME:CEST
DTSTART:20210328T010000
END:DAYLIGHT
BEGIN:STANDARD
TZOFFSETFROM:+0200
TZOFFSETTO:+0100
TZNAME:CET
DTSTART:20211031T010000
END:STANDARD
BEGIN:DAYLIGHT
TZOFFSETFROM:+0100
TZOFFSETTO:+0200
TZNAME:CEST
DTSTART:20220327T010000
END:DAYLIGHT
BEGIN:STANDARD
TZOFFSETFROM:+0200
TZOFFSETTO:+0100
TZNAME:CET
DTSTART:20221030T010000
END:STANDARD
END:VTIMEZONE
BEGIN:VEVENT
DTSTART;TZID=Europe/Berlin:20210906T200000
DTEND;TZID=Europe/Berlin:20210906T200000
DTSTAMP:20260421T160936
CREATED:20210625T074646Z
LAST-MODIFIED:20210625T074703Z
UID:4539-1630958400-1630958400@www.waldorfschule-remscheid.de
SUMMARY:Elternabend Klasse 8
DESCRIPTION:
URL:https://www.waldorfschule-remscheid.de/event/elternabend-klasse-8-8/
END:VEVENT
BEGIN:VEVENT
DTSTART;TZID=Europe/Berlin:20210908T190000
DTEND;TZID=Europe/Berlin:20210908T210000
DTSTAMP:20260421T160936
CREATED:20210901T063448Z
LAST-MODIFIED:20210901T063448Z
UID:4653-1631127600-1631134800@www.waldorfschule-remscheid.de
SUMMARY:Elternabend Klasse 7
DESCRIPTION:
URL:https://www.waldorfschule-remscheid.de/event/elternabend-klasse-7-12/
END:VEVENT
BEGIN:VEVENT
DTSTART;TZID=Europe/Berlin:20210908T200000
DTEND;TZID=Europe/Berlin:20210908T213000
DTSTAMP:20260421T160936
CREATED:20210725T062430Z
LAST-MODIFIED:20210725T062430Z
UID:4567-1631131200-1631136600@www.waldorfschule-remscheid.de
SUMMARY:Finanzkreis (FK)
DESCRIPTION:…trifft in der Regel jeden 2. Mittwoch im Monat \nAnsprechpartner: Dirk Lemke \nerreichbar am Besten per E-Mail: finanzkreis@waldorfschule-remscheid.de \nDer Finanzkreis ist ein zentrales Kontroll- und Steuerungsorgan unserer Schule. Er betrachtet den gesamten Schulhaushalt und behandelt Fragen des aktuellen Haushaltsjahres\, der Finanzplanung sowie der Mittelverwendendung. \nEin besonderes Augenmerk gilt dabei denjenigen Mitteln\, die zum einen als Eigenanteil zu den staatlichen Zuschüssen beigesteuert werden müssen\, zum anderen aber zur Finanzierung von pädagogischen Angeboten\, schulischen bzw. kulturellen Aktivitäten sowie der Schulgestaltung bzw. -ausstattung bereitgestellt werden müssen\, da sie zwar aus dem pädagogischen Anspruch einer Waldorfschule erwachsen\, jedoch nicht staatlich gefördert werden. \n\n\n\n\n\n\n\n\n\n\n\n 
URL:https://www.waldorfschule-remscheid.de/event/finanzkreis-fk-2/
END:VEVENT
BEGIN:VEVENT
DTSTART;TZID=Europe/Berlin:20210908T200000
DTEND;TZID=Europe/Berlin:20210908T220000
DTSTAMP:20260421T160936
CREATED:20210901T063534Z
LAST-MODIFIED:20210901T063534Z
UID:4655-1631131200-1631138400@www.waldorfschule-remscheid.de
SUMMARY:Öffentlichkeitskreis
DESCRIPTION:
URL:https://www.waldorfschule-remscheid.de/event/oeffentlichkeitskreis-3/
END:VEVENT
BEGIN:VEVENT
DTSTART;TZID=Europe/Berlin:20210915T190000
DTEND;TZID=Europe/Berlin:20210915T210000
DTSTAMP:20260421T160936
CREATED:20210725T061413Z
LAST-MODIFIED:20210725T061413Z
UID:4557-1631732400-1631739600@www.waldorfschule-remscheid.de
SUMMARY:Arbeitskollegium (AK)
DESCRIPTION:In der Regel trifft sich das Gremium an jedem 3. Mittwoch des Monats. \nNeben dem Lehrerkollegium stellt das Arbeitskollegium (AK) ein weiteres inneres Organ des Schulträgers dar; zugleich kommt ihm eine grundlegende Rolle innerhalb der Gremien der Schule zu\, indem es als Informations-\, Meinungsbildungs- und Entscheidungszentrum konzipiert ist. Seine besondere Bedeutung erwächst ihm demgemäß aus seiner Aufgabe\, eine Verbindung zwischen allen Gremien des Organismus Schule zu gewährleisten und eine Wahrnehmung der Arbeit in den diversen Organen\, Arbeitskreisen und/oder Konferenzen zu haben. Dabei soll es vermitteln und ist auf Ausgleich sowie auf gemeinschaftlich begründete Vereinbarungen bedacht. \n\n\n\n\nDas Arbeitskollegium bildet sich aus Delegierten aller Arbeitskreise der Schule\, dem Geschäftsführer als Vertreter der Verwaltung sowie den Vorstandsmitgliedern beider Vereine. Es fasst seine Beschlüsse auf der Grundlage von Vorlagen\, die von den Vereinsorganen oder den Arbeitskreisen eingebracht werden; daneben nimmt es die dort selbstständig verantworteten Entscheidungen auf und koordiniert sie im Sinne der Schule als einem ganzheitlich zu betrachtenden System.
URL:https://www.waldorfschule-remscheid.de/event/arbeitskollegium-ak/
END:VEVENT
BEGIN:VEVENT
DTSTART;TZID=Europe/Berlin:20210917T200000
DTEND;TZID=Europe/Berlin:20210919T150000
DTSTAMP:20260421T160936
CREATED:20210820T072729Z
LAST-MODIFIED:20210820T073225Z
UID:4626-1631908800-1632063600@www.waldorfschule-remscheid.de
SUMMARY:Einführungswochenende
DESCRIPTION:
URL:https://www.waldorfschule-remscheid.de/event/einfuehrungswochenende-2/
END:VEVENT
BEGIN:VEVENT
DTSTART;TZID=Europe/Berlin:20210922T200000
DTEND;TZID=Europe/Berlin:20210922T220000
DTSTAMP:20260421T160936
CREATED:20210901T063628Z
LAST-MODIFIED:20210901T063628Z
UID:4657-1632340800-1632348000@www.waldorfschule-remscheid.de
SUMMARY:Veranstaltungskreis
DESCRIPTION:
URL:https://www.waldorfschule-remscheid.de/event/veranstaltungskreis-22/
END:VEVENT
BEGIN:VEVENT
DTSTART;TZID=Europe/Berlin:20210928T200000
DTEND;TZID=Europe/Berlin:20210928T220000
DTSTAMP:20260421T160936
CREATED:20210616T073807Z
LAST-MODIFIED:20210621T103153Z
UID:4509-1632859200-1632866400@www.waldorfschule-remscheid.de
SUMMARY:Elternabend Klasse 1
DESCRIPTION:
URL:https://www.waldorfschule-remscheid.de/event/elternabend-klasse-1-15/
END:VEVENT
END:VCALENDAR