BEGIN:VCALENDAR
VERSION:2.0
PRODID:-//Rudolf Steiner Schule Remscheid e.V. - ECPv6.15.17//NONSGML v1.0//EN
CALSCALE:GREGORIAN
METHOD:PUBLISH
X-ORIGINAL-URL:https://www.waldorfschule-remscheid.de
X-WR-CALDESC:Veranstaltungen für Rudolf Steiner Schule Remscheid e.V.
REFRESH-INTERVAL;VALUE=DURATION:PT1H
X-Robots-Tag:noindex
X-PUBLISHED-TTL:PT1H
BEGIN:VTIMEZONE
TZID:Europe/Berlin
BEGIN:DAYLIGHT
TZOFFSETFROM:+0100
TZOFFSETTO:+0200
TZNAME:CEST
DTSTART:20200329T010000
END:DAYLIGHT
BEGIN:STANDARD
TZOFFSETFROM:+0200
TZOFFSETTO:+0100
TZNAME:CET
DTSTART:20201025T010000
END:STANDARD
BEGIN:DAYLIGHT
TZOFFSETFROM:+0100
TZOFFSETTO:+0200
TZNAME:CEST
DTSTART:20210328T010000
END:DAYLIGHT
BEGIN:STANDARD
TZOFFSETFROM:+0200
TZOFFSETTO:+0100
TZNAME:CET
DTSTART:20211031T010000
END:STANDARD
BEGIN:DAYLIGHT
TZOFFSETFROM:+0100
TZOFFSETTO:+0200
TZNAME:CEST
DTSTART:20220327T010000
END:DAYLIGHT
BEGIN:STANDARD
TZOFFSETFROM:+0200
TZOFFSETTO:+0100
TZNAME:CET
DTSTART:20221030T010000
END:STANDARD
END:VTIMEZONE
BEGIN:VEVENT
DTSTART;VALUE=DATE:20211002
DTEND;VALUE=DATE:20211003
DTSTAMP:20260421T143102
CREATED:20210901T063922Z
LAST-MODIFIED:20210924T133155Z
UID:4665-1633132800-1633219199@www.waldorfschule-remscheid.de
SUMMARY:Schüler-Monatsfeier (leider ohne Eltern und Besucher)
DESCRIPTION:Liebe Eltern\, \num den Corona-Verordnungen zu entsprechen\, findet unsere Monatsfeier am 02.10. ohne Eltern oder Besucher statt. Es wird zwei Durchgänge geben\, sodass nur die Hälfte der Schülerinnen und Schüler im Saal sind. Schulschluss ist um 11:25 Uhr. Die Schulbusse fahren morgens zu gewohnter Zeit und nach der 4. Stunde.
URL:https://www.waldorfschule-remscheid.de/event/monatsfeier-10/
END:VEVENT
BEGIN:VEVENT
DTSTART;TZID=Europe/Berlin:20211005T200000
DTEND;TZID=Europe/Berlin:20211005T220000
DTSTAMP:20260421T143102
CREATED:20210916T173155Z
LAST-MODIFIED:20210916T173155Z
UID:4679-1633464000-1633471200@www.waldorfschule-remscheid.de
SUMMARY:Elternrat
DESCRIPTION:
URL:https://www.waldorfschule-remscheid.de/event/elternrat-27/
END:VEVENT
BEGIN:VEVENT
DTSTART;TZID=Europe/Berlin:20211006T200000
DTEND;TZID=Europe/Berlin:20211006T213000
DTSTAMP:20260421T143102
CREATED:20210725T062520Z
LAST-MODIFIED:20210725T062520Z
UID:4569-1633550400-1633555800@www.waldorfschule-remscheid.de
SUMMARY:Finanzkreis (FK)
DESCRIPTION:…trifft in der Regel jeden 2. Mittwoch im Monat \nAnsprechpartner: Dirk Lemke \nerreichbar am Besten per E-Mail: finanzkreis@waldorfschule-remscheid.de \nDer Finanzkreis ist ein zentrales Kontroll- und Steuerungsorgan unserer Schule. Er betrachtet den gesamten Schulhaushalt und behandelt Fragen des aktuellen Haushaltsjahres\, der Finanzplanung sowie der Mittelverwendendung. \nEin besonderes Augenmerk gilt dabei denjenigen Mitteln\, die zum einen als Eigenanteil zu den staatlichen Zuschüssen beigesteuert werden müssen\, zum anderen aber zur Finanzierung von pädagogischen Angeboten\, schulischen bzw. kulturellen Aktivitäten sowie der Schulgestaltung bzw. -ausstattung bereitgestellt werden müssen\, da sie zwar aus dem pädagogischen Anspruch einer Waldorfschule erwachsen\, jedoch nicht staatlich gefördert werden. \n\n\n\n\n\n\n\n\n\n\n\n 
URL:https://www.waldorfschule-remscheid.de/event/finanzkreis-fk-3/
END:VEVENT
BEGIN:VEVENT
DTSTART;TZID=Europe/Berlin:20211006T200000
DTEND;TZID=Europe/Berlin:20211006T220000
DTSTAMP:20260421T143102
CREATED:20210901T063705Z
LAST-MODIFIED:20210901T063705Z
UID:4659-1633550400-1633557600@www.waldorfschule-remscheid.de
SUMMARY:Veranstaltungskreis
DESCRIPTION:
URL:https://www.waldorfschule-remscheid.de/event/veranstaltungskreis-23/
END:VEVENT
BEGIN:VEVENT
DTSTART;TZID=Europe/Berlin:20211007T193000
DTEND;TZID=Europe/Berlin:20211007T220000
DTSTAMP:20260421T143102
CREATED:20210901T063804Z
LAST-MODIFIED:20210901T063804Z
UID:4661-1633635000-1633644000@www.waldorfschule-remscheid.de
SUMMARY:Elternabend Klasse 5
DESCRIPTION:
URL:https://www.waldorfschule-remscheid.de/event/elternabend-klasse-5-6/
END:VEVENT
BEGIN:VEVENT
DTSTART;TZID=Europe/Berlin:20211025T190000
DTEND;TZID=Europe/Berlin:20211025T190000
DTSTAMP:20260421T143102
CREATED:20211007T065936Z
LAST-MODIFIED:20211007T065936Z
UID:4755-1635188400-1635188400@www.waldorfschule-remscheid.de
SUMMARY:Elternabend Klasse 4
DESCRIPTION:
URL:https://www.waldorfschule-remscheid.de/event/elternabend-klasse-4-18/
END:VEVENT
BEGIN:VEVENT
DTSTART;TZID=Europe/Berlin:20211026T190000
DTEND;TZID=Europe/Berlin:20211026T190000
DTSTAMP:20260421T143102
CREATED:20211007T070025Z
LAST-MODIFIED:20211007T070057Z
UID:4757-1635274800-1635274800@www.waldorfschule-remscheid.de
SUMMARY:Elternabend Klasse 6
DESCRIPTION:
URL:https://www.waldorfschule-remscheid.de/event/elternabend-klasse-6-11/
END:VEVENT
BEGIN:VEVENT
DTSTART;TZID=Europe/Berlin:20211027T190000
DTEND;TZID=Europe/Berlin:20211027T210000
DTSTAMP:20260421T143102
CREATED:20210725T061503Z
LAST-MODIFIED:20210725T061503Z
UID:4559-1635361200-1635368400@www.waldorfschule-remscheid.de
SUMMARY:Arbeitskollegium (AK)
DESCRIPTION:In der Regel trifft sich das Gremium an jedem 3. Mittwoch des Monats. \nNeben dem Lehrerkollegium stellt das Arbeitskollegium (AK) ein weiteres inneres Organ des Schulträgers dar; zugleich kommt ihm eine grundlegende Rolle innerhalb der Gremien der Schule zu\, indem es als Informations-\, Meinungsbildungs- und Entscheidungszentrum konzipiert ist. Seine besondere Bedeutung erwächst ihm demgemäß aus seiner Aufgabe\, eine Verbindung zwischen allen Gremien des Organismus Schule zu gewährleisten und eine Wahrnehmung der Arbeit in den diversen Organen\, Arbeitskreisen und/oder Konferenzen zu haben. Dabei soll es vermitteln und ist auf Ausgleich sowie auf gemeinschaftlich begründete Vereinbarungen bedacht. \n\n\n\n\nDas Arbeitskollegium bildet sich aus Delegierten aller Arbeitskreise der Schule\, dem Geschäftsführer als Vertreter der Verwaltung sowie den Vorstandsmitgliedern beider Vereine. Es fasst seine Beschlüsse auf der Grundlage von Vorlagen\, die von den Vereinsorganen oder den Arbeitskreisen eingebracht werden; daneben nimmt es die dort selbstständig verantworteten Entscheidungen auf und koordiniert sie im Sinne der Schule als einem ganzheitlich zu betrachtenden System.
URL:https://www.waldorfschule-remscheid.de/event/arbeitskollegium-ak-2/
END:VEVENT
BEGIN:VEVENT
DTSTART;TZID=Europe/Berlin:20211028T190000
DTEND;TZID=Europe/Berlin:20211028T190000
DTSTAMP:20260421T143102
CREATED:20211007T070218Z
LAST-MODIFIED:20211007T070218Z
UID:4760-1635447600-1635447600@www.waldorfschule-remscheid.de
SUMMARY:Elternabend Klasse 2
DESCRIPTION:
URL:https://www.waldorfschule-remscheid.de/event/elternabend-klasse-2-22/
END:VEVENT
END:VCALENDAR