BEGIN:VCALENDAR
VERSION:2.0
PRODID:-//Rudolf Steiner Schule Remscheid e.V. - ECPv6.15.17//NONSGML v1.0//EN
CALSCALE:GREGORIAN
METHOD:PUBLISH
X-WR-CALNAME:Rudolf Steiner Schule Remscheid e.V.
X-ORIGINAL-URL:https://www.waldorfschule-remscheid.de
X-WR-CALDESC:Veranstaltungen für Rudolf Steiner Schule Remscheid e.V.
REFRESH-INTERVAL;VALUE=DURATION:PT1H
X-Robots-Tag:noindex
X-PUBLISHED-TTL:PT1H
BEGIN:VTIMEZONE
TZID:Europe/Berlin
BEGIN:DAYLIGHT
TZOFFSETFROM:+0100
TZOFFSETTO:+0200
TZNAME:CEST
DTSTART:20200329T010000
END:DAYLIGHT
BEGIN:STANDARD
TZOFFSETFROM:+0200
TZOFFSETTO:+0100
TZNAME:CET
DTSTART:20201025T010000
END:STANDARD
BEGIN:DAYLIGHT
TZOFFSETFROM:+0100
TZOFFSETTO:+0200
TZNAME:CEST
DTSTART:20210328T010000
END:DAYLIGHT
BEGIN:STANDARD
TZOFFSETFROM:+0200
TZOFFSETTO:+0100
TZNAME:CET
DTSTART:20211031T010000
END:STANDARD
BEGIN:DAYLIGHT
TZOFFSETFROM:+0100
TZOFFSETTO:+0200
TZNAME:CEST
DTSTART:20220327T010000
END:DAYLIGHT
BEGIN:STANDARD
TZOFFSETFROM:+0200
TZOFFSETTO:+0100
TZNAME:CET
DTSTART:20221030T010000
END:STANDARD
END:VTIMEZONE
BEGIN:VEVENT
DTSTART;TZID=Europe/Berlin:20211102T200000
DTEND;TZID=Europe/Berlin:20211102T220000
DTSTAMP:20260421T155529
CREATED:20210916T173244Z
LAST-MODIFIED:20210916T173244Z
UID:4681-1635883200-1635890400@www.waldorfschule-remscheid.de
SUMMARY:Elternrat
DESCRIPTION:
URL:https://www.waldorfschule-remscheid.de/event/elternrat-28/
END:VEVENT
BEGIN:VEVENT
DTSTART;TZID=Europe/Berlin:20211104T193000
DTEND;TZID=Europe/Berlin:20211104T193000
DTSTAMP:20260421T155529
CREATED:20211019T102659Z
LAST-MODIFIED:20211019T102659Z
UID:4769-1636054200-1636054200@www.waldorfschule-remscheid.de
SUMMARY:Elternabend Klasse 5
DESCRIPTION:
URL:https://www.waldorfschule-remscheid.de/event/elternabend-klasse-5-7/
END:VEVENT
BEGIN:VEVENT
DTSTART;TZID=Europe/Berlin:20211108T190000
DTEND;TZID=Europe/Berlin:20211108T210000
DTSTAMP:20260421T155529
CREATED:20210924T080345Z
LAST-MODIFIED:20210924T080345Z
UID:4734-1636398000-1636405200@www.waldorfschule-remscheid.de
SUMMARY:Elternabend Klasse 3
DESCRIPTION:
URL:https://www.waldorfschule-remscheid.de/event/elternabend-klasse-3-18/
END:VEVENT
BEGIN:VEVENT
DTSTART;TZID=Europe/Berlin:20211108T200000
DTEND;TZID=Europe/Berlin:20211108T200000
DTSTAMP:20260421T155529
CREATED:20210920T092147Z
LAST-MODIFIED:20210920T092147Z
UID:4732-1636401600-1636401600@www.waldorfschule-remscheid.de
SUMMARY:Elternabend Klasse 8
DESCRIPTION:
URL:https://www.waldorfschule-remscheid.de/event/elternabend-klasse-8-9/
END:VEVENT
BEGIN:VEVENT
DTSTART;TZID=Europe/Berlin:20211110T200000
DTEND;TZID=Europe/Berlin:20211110T213000
DTSTAMP:20260421T155529
CREATED:20210725T195332Z
LAST-MODIFIED:20210725T195332Z
UID:4571-1636574400-1636579800@www.waldorfschule-remscheid.de
SUMMARY:Finanzkreis (FK)
DESCRIPTION:…trifft in der Regel jeden 2. Mittwoch im Monat \nAnsprechpartner: Dirk Lemke \nerreichbar am Besten per E-Mail: finanzkreis@waldorfschule-remscheid.de \nDer Finanzkreis ist ein zentrales Kontroll- und Steuerungsorgan unserer Schule. Er betrachtet den gesamten Schulhaushalt und behandelt Fragen des aktuellen Haushaltsjahres\, der Finanzplanung sowie der Mittelverwendendung. \nEin besonderes Augenmerk gilt dabei denjenigen Mitteln\, die zum einen als Eigenanteil zu den staatlichen Zuschüssen beigesteuert werden müssen\, zum anderen aber zur Finanzierung von pädagogischen Angeboten\, schulischen bzw. kulturellen Aktivitäten sowie der Schulgestaltung bzw. -ausstattung bereitgestellt werden müssen\, da sie zwar aus dem pädagogischen Anspruch einer Waldorfschule erwachsen\, jedoch nicht staatlich gefördert werden. \n\n\n\n\n\n\n\n\n\n\n\n 
URL:https://www.waldorfschule-remscheid.de/event/finanzkreis-fk-4/
END:VEVENT
BEGIN:VEVENT
DTSTART;TZID=Europe/Berlin:20211117T190000
DTEND;TZID=Europe/Berlin:20211117T210000
DTSTAMP:20260421T155529
CREATED:20210725T061555Z
LAST-MODIFIED:20210725T061555Z
UID:4561-1637175600-1637182800@www.waldorfschule-remscheid.de
SUMMARY:Arbeitskollegium (AK)
DESCRIPTION:In der Regel trifft sich das Gremium an jedem 3. Mittwoch des Monats. \nNeben dem Lehrerkollegium stellt das Arbeitskollegium (AK) ein weiteres inneres Organ des Schulträgers dar; zugleich kommt ihm eine grundlegende Rolle innerhalb der Gremien der Schule zu\, indem es als Informations-\, Meinungsbildungs- und Entscheidungszentrum konzipiert ist. Seine besondere Bedeutung erwächst ihm demgemäß aus seiner Aufgabe\, eine Verbindung zwischen allen Gremien des Organismus Schule zu gewährleisten und eine Wahrnehmung der Arbeit in den diversen Organen\, Arbeitskreisen und/oder Konferenzen zu haben. Dabei soll es vermitteln und ist auf Ausgleich sowie auf gemeinschaftlich begründete Vereinbarungen bedacht. \n\n\n\n\nDas Arbeitskollegium bildet sich aus Delegierten aller Arbeitskreise der Schule\, dem Geschäftsführer als Vertreter der Verwaltung sowie den Vorstandsmitgliedern beider Vereine. Es fasst seine Beschlüsse auf der Grundlage von Vorlagen\, die von den Vereinsorganen oder den Arbeitskreisen eingebracht werden; daneben nimmt es die dort selbstständig verantworteten Entscheidungen auf und koordiniert sie im Sinne der Schule als einem ganzheitlich zu betrachtenden System.
URL:https://www.waldorfschule-remscheid.de/event/arbeitskollegium-ak-3/
END:VEVENT
BEGIN:VEVENT
DTSTART;TZID=Europe/Berlin:20211120T110000
DTEND;TZID=Europe/Berlin:20211120T170000
DTSTAMP:20260421T155529
CREATED:20210901T064909Z
LAST-MODIFIED:20211116T081959Z
UID:4671-1637406000-1637427600@www.waldorfschule-remscheid.de
SUMMARY:Basar - coronabedingt abgesagt!!!!
DESCRIPTION:
URL:https://www.waldorfschule-remscheid.de/event/basar/
END:VEVENT
END:VCALENDAR