BEGIN:VCALENDAR
VERSION:2.0
PRODID:-//Rudolf Steiner Schule Remscheid e.V. - ECPv6.15.17//NONSGML v1.0//EN
CALSCALE:GREGORIAN
METHOD:PUBLISH
X-ORIGINAL-URL:https://www.waldorfschule-remscheid.de
X-WR-CALDESC:Veranstaltungen für Rudolf Steiner Schule Remscheid e.V.
REFRESH-INTERVAL;VALUE=DURATION:PT1H
X-Robots-Tag:noindex
X-PUBLISHED-TTL:PT1H
BEGIN:VTIMEZONE
TZID:Europe/Berlin
BEGIN:DAYLIGHT
TZOFFSETFROM:+0100
TZOFFSETTO:+0200
TZNAME:CEST
DTSTART:20210328T010000
END:DAYLIGHT
BEGIN:STANDARD
TZOFFSETFROM:+0200
TZOFFSETTO:+0100
TZNAME:CET
DTSTART:20211031T010000
END:STANDARD
BEGIN:DAYLIGHT
TZOFFSETFROM:+0100
TZOFFSETTO:+0200
TZNAME:CEST
DTSTART:20220327T010000
END:DAYLIGHT
BEGIN:STANDARD
TZOFFSETFROM:+0200
TZOFFSETTO:+0100
TZNAME:CET
DTSTART:20221030T010000
END:STANDARD
BEGIN:DAYLIGHT
TZOFFSETFROM:+0100
TZOFFSETTO:+0200
TZNAME:CEST
DTSTART:20230326T010000
END:DAYLIGHT
BEGIN:STANDARD
TZOFFSETFROM:+0200
TZOFFSETTO:+0100
TZNAME:CET
DTSTART:20231029T010000
END:STANDARD
END:VTIMEZONE
BEGIN:VEVENT
DTSTART;TZID=Europe/Berlin:20220111T200000
DTEND;TZID=Europe/Berlin:20220111T200000
DTSTAMP:20260423T121514
CREATED:20211208T091744Z
LAST-MODIFIED:20211208T091744Z
UID:4884-1641931200-1641931200@www.waldorfschule-remscheid.de
SUMMARY:Fahrkreis
DESCRIPTION:
URL:https://www.waldorfschule-remscheid.de/event/fahrkreis-4/
END:VEVENT
BEGIN:VEVENT
DTSTART;TZID=Europe/Berlin:20220111T200000
DTEND;TZID=Europe/Berlin:20220111T220000
DTSTAMP:20260423T121514
CREATED:20210916T173424Z
LAST-MODIFIED:20210916T173424Z
UID:4685-1641931200-1641938400@www.waldorfschule-remscheid.de
SUMMARY:Elternrat
DESCRIPTION:
URL:https://www.waldorfschule-remscheid.de/event/elternrat-30/
END:VEVENT
BEGIN:VEVENT
DTSTART;TZID=Europe/Berlin:20220112T200000
DTEND;TZID=Europe/Berlin:20220112T213000
DTSTAMP:20260423T121514
CREATED:20210725T195544Z
LAST-MODIFIED:20210725T195544Z
UID:4575-1642017600-1642023000@www.waldorfschule-remscheid.de
SUMMARY:Finanzkreis (FK)
DESCRIPTION:…trifft in der Regel jeden 2. Mittwoch im Monat \nAnsprechpartner: Dirk Lemke \nerreichbar am Besten per E-Mail: finanzkreis@waldorfschule-remscheid.de \nDer Finanzkreis ist ein zentrales Kontroll- und Steuerungsorgan unserer Schule. Er betrachtet den gesamten Schulhaushalt und behandelt Fragen des aktuellen Haushaltsjahres\, der Finanzplanung sowie der Mittelverwendendung. \nEin besonderes Augenmerk gilt dabei denjenigen Mitteln\, die zum einen als Eigenanteil zu den staatlichen Zuschüssen beigesteuert werden müssen\, zum anderen aber zur Finanzierung von pädagogischen Angeboten\, schulischen bzw. kulturellen Aktivitäten sowie der Schulgestaltung bzw. -ausstattung bereitgestellt werden müssen\, da sie zwar aus dem pädagogischen Anspruch einer Waldorfschule erwachsen\, jedoch nicht staatlich gefördert werden. \n\n\n\n\n\n\n\n\n\n\n\n 
URL:https://www.waldorfschule-remscheid.de/event/finanzkreis-fk-6/
END:VEVENT
BEGIN:VEVENT
DTSTART;VALUE=DATE:20220113
DTEND;VALUE=DATE:20220115
DTSTAMP:20260423T121514
CREATED:20210830T112503Z
LAST-MODIFIED:20210830T112503Z
UID:4644-1642032000-1642204799@www.waldorfschule-remscheid.de
SUMMARY:Elternsprechtag
DESCRIPTION:
URL:https://www.waldorfschule-remscheid.de/event/elternsprechtag-5/
END:VEVENT
BEGIN:VEVENT
DTSTART;TZID=Europe/Berlin:20220117T190000
DTEND;TZID=Europe/Berlin:20220117T190000
DTSTAMP:20260423T121514
CREATED:20211213T081011Z
LAST-MODIFIED:20211213T081011Z
UID:4889-1642446000-1642446000@www.waldorfschule-remscheid.de
SUMMARY:Oberstufenkreis
DESCRIPTION:
URL:https://www.waldorfschule-remscheid.de/event/oberstufenkreis-3/
END:VEVENT
BEGIN:VEVENT
DTSTART;VALUE=DATE:20220127
DTEND;VALUE=DATE:20220128
DTSTAMP:20260423T121514
CREATED:20210901T063156Z
LAST-MODIFIED:20210901T063307Z
UID:4651-1643241600-1643327999@www.waldorfschule-remscheid.de
SUMMARY:Klassenspiel der 11. Klasse
DESCRIPTION:
URL:https://www.waldorfschule-remscheid.de/event/klassenspiel-der-11-klasse-3/
END:VEVENT
BEGIN:VEVENT
DTSTART;TZID=Europe/Berlin:20220127T190000
DTEND;TZID=Europe/Berlin:20220127T190000
DTSTAMP:20260423T121514
CREATED:20210924T080541Z
LAST-MODIFIED:20210924T080541Z
UID:4738-1643310000-1643310000@www.waldorfschule-remscheid.de
SUMMARY:Elternabend Klasse 2
DESCRIPTION:
URL:https://www.waldorfschule-remscheid.de/event/elternabend-klasse-2-20/
END:VEVENT
BEGIN:VEVENT
DTSTART;TZID=Europe/Berlin:20220128T200000
DTEND;TZID=Europe/Berlin:20220128T200000
DTSTAMP:20260423T121514
CREATED:20210707T070307Z
LAST-MODIFIED:20210707T070317Z
UID:4543-1643400000-1643400000@www.waldorfschule-remscheid.de
SUMMARY:Klassenspiel der 11. Klasse
DESCRIPTION:
URL:https://www.waldorfschule-remscheid.de/event/klassenspiel-der-11-klasse/
END:VEVENT
BEGIN:VEVENT
DTSTART;TZID=Europe/Berlin:20220129T200000
DTEND;TZID=Europe/Berlin:20220129T200000
DTSTAMP:20260423T121514
CREATED:20210707T070451Z
LAST-MODIFIED:20210707T070451Z
UID:4545-1643486400-1643486400@www.waldorfschule-remscheid.de
SUMMARY:Klassenspiel der 11. Klasse
DESCRIPTION:
URL:https://www.waldorfschule-remscheid.de/event/klassenspiel-der-11-klasse-2/
END:VEVENT
BEGIN:VEVENT
DTSTART;TZID=Europe/Berlin:20220130T180000
DTEND;TZID=Europe/Berlin:20220130T180000
DTSTAMP:20260423T121514
CREATED:20220111T103836Z
LAST-MODIFIED:20220111T103836Z
UID:4903-1643565600-1643565600@www.waldorfschule-remscheid.de
SUMMARY:Klassenspiel der 11. Klasse
DESCRIPTION:
URL:https://www.waldorfschule-remscheid.de/event/klassenspiel-der-11-klasse-4/
END:VEVENT
END:VCALENDAR