BEGIN:VCALENDAR
VERSION:2.0
PRODID:-//Rudolf Steiner Schule Remscheid e.V. - ECPv6.15.17//NONSGML v1.0//EN
CALSCALE:GREGORIAN
METHOD:PUBLISH
X-WR-CALNAME:Rudolf Steiner Schule Remscheid e.V.
X-ORIGINAL-URL:https://www.waldorfschule-remscheid.de
X-WR-CALDESC:Veranstaltungen für Rudolf Steiner Schule Remscheid e.V.
REFRESH-INTERVAL;VALUE=DURATION:PT1H
X-Robots-Tag:noindex
X-PUBLISHED-TTL:PT1H
BEGIN:VTIMEZONE
TZID:Europe/Berlin
BEGIN:DAYLIGHT
TZOFFSETFROM:+0100
TZOFFSETTO:+0200
TZNAME:CEST
DTSTART:20240331T010000
END:DAYLIGHT
BEGIN:STANDARD
TZOFFSETFROM:+0200
TZOFFSETTO:+0100
TZNAME:CET
DTSTART:20241027T010000
END:STANDARD
BEGIN:DAYLIGHT
TZOFFSETFROM:+0100
TZOFFSETTO:+0200
TZNAME:CEST
DTSTART:20250330T010000
END:DAYLIGHT
BEGIN:STANDARD
TZOFFSETFROM:+0200
TZOFFSETTO:+0100
TZNAME:CET
DTSTART:20251026T010000
END:STANDARD
BEGIN:DAYLIGHT
TZOFFSETFROM:+0100
TZOFFSETTO:+0200
TZNAME:CEST
DTSTART:20260329T010000
END:DAYLIGHT
BEGIN:STANDARD
TZOFFSETFROM:+0200
TZOFFSETTO:+0100
TZNAME:CET
DTSTART:20261025T010000
END:STANDARD
BEGIN:DAYLIGHT
TZOFFSETFROM:+0100
TZOFFSETTO:+0200
TZNAME:CEST
DTSTART:20270328T010000
END:DAYLIGHT
BEGIN:STANDARD
TZOFFSETFROM:+0200
TZOFFSETTO:+0100
TZNAME:CET
DTSTART:20271031T010000
END:STANDARD
END:VTIMEZONE
BEGIN:VEVENT
DTSTART;VALUE=DATE:20251220
DTEND;VALUE=DATE:20260107
DTSTAMP:20260419T151953
CREATED:20250522T082043Z
LAST-MODIFIED:20250522T082043Z
UID:6897-1766188800-1767743999@www.waldorfschule-remscheid.de
SUMMARY:Winterferien
DESCRIPTION:
URL:https://www.waldorfschule-remscheid.de/event/winterferien-2/
END:VEVENT
BEGIN:VEVENT
DTSTART;TZID=Europe/Berlin:20260107T200000
DTEND;TZID=Europe/Berlin:20260107T200000
DTSTAMP:20260419T151953
CREATED:20250916T065626Z
LAST-MODIFIED:20250916T065638Z
UID:7172-1767816000-1767816000@www.waldorfschule-remscheid.de
SUMMARY:Veranstaltungskreis
DESCRIPTION:
URL:https://www.waldorfschule-remscheid.de/event/veranstaltungskreis-60/
CATEGORIES:Arbeitskreise
END:VEVENT
BEGIN:VEVENT
DTSTART;TZID=Europe/Berlin:20260112T190000
DTEND;TZID=Europe/Berlin:20260112T203000
DTSTAMP:20260419T151953
CREATED:20250910T062331Z
LAST-MODIFIED:20250910T062331Z
UID:7166-1768244400-1768249800@www.waldorfschule-remscheid.de
SUMMARY:Elternabend Klasse 5
DESCRIPTION:
URL:https://www.waldorfschule-remscheid.de/event/elternabend-klasse-5-21/
CATEGORIES:Elternabend
END:VEVENT
BEGIN:VEVENT
DTSTART;TZID=Europe/Berlin:20260113T190000
DTEND;TZID=Europe/Berlin:20260113T190000
DTSTAMP:20260419T151953
CREATED:20250903T084853Z
LAST-MODIFIED:20250903T084853Z
UID:7096-1768330800-1768330800@www.waldorfschule-remscheid.de
SUMMARY:Oberstufenkreis
DESCRIPTION:altes Musikhaus
URL:https://www.waldorfschule-remscheid.de/event/oberstufenkreis-29/
END:VEVENT
BEGIN:VEVENT
DTSTART;TZID=Europe/Berlin:20260113T200000
DTEND;TZID=Europe/Berlin:20260113T200000
DTSTAMP:20260419T151953
CREATED:20250903T091028Z
LAST-MODIFIED:20250903T091847Z
UID:7117-1768334400-1768334400@www.waldorfschule-remscheid.de
SUMMARY:Elternrat
DESCRIPTION:Altes Musikhaus
URL:https://www.waldorfschule-remscheid.de/event/elternrat-68/
END:VEVENT
BEGIN:VEVENT
DTSTART;TZID=Europe/Berlin:20260114T190000
DTEND;TZID=Europe/Berlin:20260114T203000
DTSTAMP:20260419T151953
CREATED:20250617T072627Z
LAST-MODIFIED:20250912T071505Z
UID:6992-1768417200-1768422600@www.waldorfschule-remscheid.de
SUMMARY:Finanzkreis
DESCRIPTION:
URL:https://www.waldorfschule-remscheid.de/event/finanzkreis-63/
CATEGORIES:Arbeitskreise
END:VEVENT
BEGIN:VEVENT
DTSTART;TZID=Europe/Berlin:20260119T190000
DTEND;TZID=Europe/Berlin:20260119T190000
DTSTAMP:20260419T151953
CREATED:20250811T125832Z
LAST-MODIFIED:20250811T125832Z
UID:7050-1768849200-1768849200@www.waldorfschule-remscheid.de
SUMMARY:Elternabend Klasse 1
DESCRIPTION:
URL:https://www.waldorfschule-remscheid.de/event/elternabend-klasse-1-43/
END:VEVENT
BEGIN:VEVENT
DTSTART;TZID=Europe/Berlin:20260121T190000
DTEND;TZID=Europe/Berlin:20260121T203000
DTSTAMP:20260419T151953
CREATED:20250627T085126Z
LAST-MODIFIED:20250627T085126Z
UID:7016-1769022000-1769027400@www.waldorfschule-remscheid.de
SUMMARY:Arbeitskollegium
DESCRIPTION:
URL:https://www.waldorfschule-remscheid.de/event/arbeitskollegium-52/
CATEGORIES:Arbeitskreise
END:VEVENT
BEGIN:VEVENT
DTSTART;VALUE=DATE:20260122
DTEND;VALUE=DATE:20260124
DTSTAMP:20260419T151953
CREATED:20250522T082450Z
LAST-MODIFIED:20250522T082450Z
UID:6901-1769040000-1769212799@www.waldorfschule-remscheid.de
SUMMARY:Elternsprechtag
DESCRIPTION:
URL:https://www.waldorfschule-remscheid.de/event/elternsprechtag-11/
END:VEVENT
BEGIN:VEVENT
DTSTART;VALUE=DATE:20260128
DTEND;VALUE=DATE:20260129
DTSTAMP:20260419T151953
CREATED:20250903T094513Z
LAST-MODIFIED:20250903T094513Z
UID:7141-1769558400-1769644799@www.waldorfschule-remscheid.de
SUMMARY:Elternabend Klasse 8
DESCRIPTION:
URL:https://www.waldorfschule-remscheid.de/event/elternabend-klasse-8-21/
END:VEVENT
BEGIN:VEVENT
DTSTART;TZID=Europe/Berlin:20260129T190000
DTEND;TZID=Europe/Berlin:20260129T190000
DTSTAMP:20260419T151953
CREATED:20250522T082629Z
LAST-MODIFIED:20260119T091616Z
UID:6903-1769713200-1769713200@www.waldorfschule-remscheid.de
SUMMARY:Klassenspiel Klasse 11
DESCRIPTION:
URL:https://www.waldorfschule-remscheid.de/event/klassenspiel-klasse-11/
END:VEVENT
BEGIN:VEVENT
DTSTART;TZID=Europe/Berlin:20260130T200000
DTEND;TZID=Europe/Berlin:20260130T200000
DTSTAMP:20260419T151953
CREATED:20250522T082711Z
LAST-MODIFIED:20260119T091554Z
UID:6905-1769803200-1769803200@www.waldorfschule-remscheid.de
SUMMARY:Klassenspiel Klasse 11
DESCRIPTION:
URL:https://www.waldorfschule-remscheid.de/event/klassenspiel-klasse-11-2/
END:VEVENT
BEGIN:VEVENT
DTSTART;TZID=Europe/Berlin:20260131T200000
DTEND;TZID=Europe/Berlin:20260131T200000
DTSTAMP:20260419T151953
CREATED:20250522T082836Z
LAST-MODIFIED:20260119T091528Z
UID:6907-1769889600-1769889600@www.waldorfschule-remscheid.de
SUMMARY:Klassenspiel Klasse 11
DESCRIPTION:
URL:https://www.waldorfschule-remscheid.de/event/klassenspiel-klasse-11-3/
END:VEVENT
END:VCALENDAR